Package: sagenhaft Version: 1.70.0 Command: /home/biocbuild/bbs-3.17-bioc/R/bin/R CMD check --install=check:sagenhaft.install-out.txt --library=/home/biocbuild/bbs-3.17-bioc/R/site-library --timings sagenhaft_1.70.0.tar.gz StartedAt: 2023-10-16 00:42:28 -0400 (Mon, 16 Oct 2023) EndedAt: 2023-10-16 00:43:40 -0400 (Mon, 16 Oct 2023) EllapsedTime: 71.6 seconds RetCode: 0 Status: WARNINGS CheckDir: sagenhaft.Rcheck Warnings: 1