Package: sagenhaft Version: 1.70.0 Command: /Library/Frameworks/R.framework/Resources/bin/R CMD build --keep-empty-dirs --no-resave-data sagenhaft StartedAt: 2023-10-15 20:55:23 -0400 (Sun, 15 Oct 2023) EndedAt: 2023-10-15 20:55:45 -0400 (Sun, 15 Oct 2023) EllapsedTime: 22.3 seconds RetCode: 0 Status: OK PackageFile: sagenhaft_1.70.0.tar.gz PackageFileSize: 2.583 MiB