Package: sagenhaft Version: 1.70.0 Command: rm -rf sagenhaft.buildbin-libdir && mkdir sagenhaft.buildbin-libdir && /Users/biocbuild/BBS/utils/build-universal.sh sagenhaft_1.70.0.tar.gz /Library/Frameworks/R.framework/Resources/bin/R sagenhaft.buildbin-libdir StartedAt: 2023-10-16 10:08:06 -0400 (Mon, 16 Oct 2023) EndedAt: 2023-10-16 10:08:19 -0400 (Mon, 16 Oct 2023) EllapsedTime: 13.5 seconds RetCode: 0 Status: OK PackageFile: sagenhaft_1.70.0.tgz PackageFileSize: 2.701 MiB