Package: safe Version: 3.40.1 Command: rm -rf safe.buildbin-libdir && mkdir safe.buildbin-libdir && F:\biocbuild\bbs-3.17-bioc\R\bin\R.exe CMD INSTALL --build --library=safe.buildbin-libdir safe_3.40.1.tar.gz StartedAt: 2023-10-16 09:27:38 -0400 (Mon, 16 Oct 2023) EndedAt: 2023-10-16 09:28:01 -0400 (Mon, 16 Oct 2023) EllapsedTime: 22.9 seconds RetCode: 0 Status: OK PackageFile: safe_3.40.1.zip PackageFileSize: 708.9 KiB