Package: safe Version: 3.40.1 Command: /home/biocbuild/bbs-3.17-bioc/R/bin/R CMD build --keep-empty-dirs --no-resave-data safe StartedAt: 2023-10-15 18:20:21 -0400 (Sun, 15 Oct 2023) EndedAt: 2023-10-15 18:24:32 -0400 (Sun, 15 Oct 2023) EllapsedTime: 251.3 seconds RetCode: 0 Status: OK PackageFile: safe_3.40.1.tar.gz PackageFileSize: 516.6 KiB