Package: safe Version: 3.40.1 Command: /Library/Frameworks/R.framework/Resources/bin/R CMD build --keep-empty-dirs --no-resave-data safe StartedAt: 2023-10-15 20:55:07 -0400 (Sun, 15 Oct 2023) EndedAt: 2023-10-15 21:05:10 -0400 (Sun, 15 Oct 2023) EllapsedTime: 603.0 seconds RetCode: 0 Status: OK PackageFile: safe_3.40.1.tar.gz PackageFileSize: 713.6 KiB