Package: sSNAPPY Version: 1.4.6 Command: chmod a+r sSNAPPY -R && F:\biocbuild\bbs-3.17-bioc\R\bin\R.exe CMD build --keep-empty-dirs --no-resave-data sSNAPPY StartedAt: 2023-10-15 22:40:44 -0400 (Sun, 15 Oct 2023) EndedAt: 2023-10-15 22:48:07 -0400 (Sun, 15 Oct 2023) EllapsedTime: 443.7 seconds RetCode: 0 Status: OK PackageFile: sSNAPPY_1.4.6.tar.gz PackageFileSize: 2.311 MiB