Package: sSNAPPY Version: 1.4.6 Command: /home/biocbuild/bbs-3.17-bioc/R/bin/R CMD INSTALL sSNAPPY StartedAt: 2023-10-15 15:18:36 -0400 (Sun, 15 Oct 2023) EndedAt: 2023-10-15 15:19:06 -0400 (Sun, 15 Oct 2023) EllapsedTime: 29.8 seconds RetCode: 0 Status: OK