Package: sSNAPPY Version: 1.4.6 Command: /home/biocbuild/bbs-3.17-bioc/R/bin/R CMD build --keep-empty-dirs --no-resave-data sSNAPPY StartedAt: 2023-10-15 18:41:52 -0400 (Sun, 15 Oct 2023) EndedAt: 2023-10-15 18:49:30 -0400 (Sun, 15 Oct 2023) EllapsedTime: 458.1 seconds RetCode: 0 Status: OK PackageFile: sSNAPPY_1.4.6.tar.gz PackageFileSize: 3.655 MiB