Package: sSNAPPY Version: 1.4.6 Command: /Library/Frameworks/R.framework/Resources/bin/R CMD build --keep-empty-dirs --no-resave-data sSNAPPY StartedAt: 2023-10-15 21:41:17 -0400 (Sun, 15 Oct 2023) EndedAt: 2023-10-15 21:57:31 -0400 (Sun, 15 Oct 2023) EllapsedTime: 974.1 seconds RetCode: 1 Status: ERROR PackageFile: None PackageFileSize: NA