Package: sSNAPPY Version: 1.4.6 Command: rm -rf sSNAPPY.buildbin-libdir && mkdir sSNAPPY.buildbin-libdir && /Users/biocbuild/BBS/utils/build-universal.sh sSNAPPY_1.4.6.tar.gz /Library/Frameworks/R.framework/Resources/bin/R sSNAPPY.buildbin-libdir StartedAt: 2023-10-10 10:21:00 -0400 (Tue, 10 Oct 2023) EndedAt: 2023-10-10 10:22:44 -0400 (Tue, 10 Oct 2023) EllapsedTime: 103.9 seconds RetCode: 0 Status: OK PackageFile: sSNAPPY_1.4.6.tgz PackageFileSize: 3.782 MiB