Package: sRACIPE Version: 1.16.0 Command: rm -rf sRACIPE.buildbin-libdir && mkdir sRACIPE.buildbin-libdir && F:\biocbuild\bbs-3.17-bioc\R\bin\R.exe CMD INSTALL --build --library=sRACIPE.buildbin-libdir sRACIPE_1.16.0.tar.gz StartedAt: 2023-10-16 09:36:17 -0400 (Mon, 16 Oct 2023) EndedAt: 2023-10-16 09:37:23 -0400 (Mon, 16 Oct 2023) EllapsedTime: 66.2 seconds RetCode: 0 Status: OK PackageFile: sRACIPE_1.16.0.zip PackageFileSize: 1014 KiB