Package: sRACIPE Version: 1.16.0 Command: /home/biocbuild/bbs-3.17-bioc/R/bin/R CMD build --keep-empty-dirs --no-resave-data sRACIPE StartedAt: 2023-10-15 18:41:04 -0400 (Sun, 15 Oct 2023) EndedAt: 2023-10-15 18:42:03 -0400 (Sun, 15 Oct 2023) EllapsedTime: 59.9 seconds RetCode: 0 Status: OK PackageFile: sRACIPE_1.16.0.tar.gz PackageFileSize: 1.82 MiB