git_url: https://git.bioconductor.org/packages/sRACIPE git_branch: RELEASE_3_17 git_last_commit: a4ae73b git_last_commit_date: 2023-04-25 11:09:28 -0400 (Tue, 25 Apr 2023) Package: sRACIPE Version: 1.16.0 Maintainer: Vivek Kohar MaintainerEmail: vivek.kohar at gmail.com