Package: runibic Version: 1.22.0 Command: F:\biocbuild\bbs-3.17-bioc\R\bin\R.exe CMD check --no-multiarch --install=check:runibic.install-out.txt --library=F:\biocbuild\bbs-3.17-bioc\R\library --no-vignettes --timings runibic_1.22.0.tar.gz StartedAt: 2023-10-16 06:20:01 -0400 (Mon, 16 Oct 2023) EndedAt: 2023-10-16 06:22:51 -0400 (Mon, 16 Oct 2023) EllapsedTime: 170.0 seconds RetCode: 0 Status: WARNINGS CheckDir: runibic.Rcheck Warnings: 1