Package: runibic Version: 1.22.0 Command: rm -rf runibic.buildbin-libdir && mkdir runibic.buildbin-libdir && F:\biocbuild\bbs-3.17-bioc\R\bin\R.exe CMD INSTALL --build --library=runibic.buildbin-libdir runibic_1.22.0.tar.gz StartedAt: 2023-10-16 09:27:16 -0400 (Mon, 16 Oct 2023) EndedAt: 2023-10-16 09:28:14 -0400 (Mon, 16 Oct 2023) EllapsedTime: 58.0 seconds RetCode: 0 Status: OK PackageFile: runibic_1.22.0.zip PackageFileSize: 540.3 KiB