Package: runibic Version: 1.22.0 Command: /home/biocbuild/bbs-3.17-bioc/R/bin/R CMD check --install=check:runibic.install-out.txt --library=/home/biocbuild/bbs-3.17-bioc/R/site-library --timings runibic_1.22.0.tar.gz StartedAt: 2023-10-16 00:40:38 -0400 (Mon, 16 Oct 2023) EndedAt: 2023-10-16 00:43:12 -0400 (Mon, 16 Oct 2023) EllapsedTime: 154.2 seconds RetCode: 0 Status: OK CheckDir: runibic.Rcheck Warnings: 0