Package: rtracklayer Version: 1.60.1 Command: F:\biocbuild\bbs-3.17-bioc\R\bin\R.exe CMD check --no-multiarch --install=check:rtracklayer.install-out.txt --library=F:\biocbuild\bbs-3.17-bioc\R\library --no-vignettes --timings rtracklayer_1.60.1.tar.gz StartedAt: 2023-10-16 06:19:45 -0400 (Mon, 16 Oct 2023) EndedAt: 2023-10-16 06:24:30 -0400 (Mon, 16 Oct 2023) EllapsedTime: 285.3 seconds RetCode: 0 Status: WARNINGS CheckDir: rtracklayer.Rcheck Warnings: 4