Package: rtracklayer Version: 1.60.1 Command: /home/biocbuild/bbs-3.17-bioc/R/bin/R CMD INSTALL rtracklayer StartedAt: 2023-10-15 15:18:04 -0400 (Sun, 15 Oct 2023) EndedAt: 2023-10-15 15:18:59 -0400 (Sun, 15 Oct 2023) EllapsedTime: 55.0 seconds RetCode: 0 Status: OK