Package: rtracklayer Version: 1.60.1 Command: /home/biocbuild/bbs-3.17-bioc/R/bin/R CMD build --keep-empty-dirs --no-resave-data rtracklayer StartedAt: 2023-10-15 18:19:27 -0400 (Sun, 15 Oct 2023) EndedAt: 2023-10-15 18:20:46 -0400 (Sun, 15 Oct 2023) EllapsedTime: 78.6 seconds RetCode: 0 Status: OK PackageFile: rtracklayer_1.60.1.tar.gz PackageFileSize: 3.833 MiB