Package: rtracklayer Version: 1.60.1 Command: /Library/Frameworks/R.framework/Resources/bin/R CMD INSTALL rtracklayer StartedAt: 2023-10-15 15:25:48 -0400 (Sun, 15 Oct 2023) EndedAt: 2023-10-15 15:28:39 -0400 (Sun, 15 Oct 2023) EllapsedTime: 171.5 seconds RetCode: 0 Status: OK