Package: rtracklayer Version: 1.60.1 Command: /Library/Frameworks/R.framework/Resources/bin/R CMD build --keep-empty-dirs --no-resave-data rtracklayer StartedAt: 2023-10-15 20:53:13 -0400 (Sun, 15 Oct 2023) EndedAt: 2023-10-15 20:56:23 -0400 (Sun, 15 Oct 2023) EllapsedTime: 190.0 seconds RetCode: 0 Status: OK PackageFile: rtracklayer_1.60.1.tar.gz PackageFileSize: 3.977 MiB