Package: rtracklayer Version: 1.60.1 Command: rm -rf rtracklayer.buildbin-libdir && mkdir rtracklayer.buildbin-libdir && /Users/biocbuild/BBS/utils/build-universal.sh rtracklayer_1.60.1.tar.gz /Library/Frameworks/R.framework/Resources/bin/R rtracklayer.buildbin-libdir StartedAt: 2023-10-16 10:07:37 -0400 (Mon, 16 Oct 2023) EndedAt: 2023-10-16 10:10:24 -0400 (Mon, 16 Oct 2023) EllapsedTime: 167.8 seconds RetCode: 0 Status: OK PackageFile: rtracklayer_1.60.1.tgz PackageFileSize: 6.662 MiB