Package: rsemmed Version: 1.10.0 Command: F:\biocbuild\bbs-3.17-bioc\R\bin\R.exe CMD check --no-multiarch --install=check:rsemmed.install-out.txt --library=F:\biocbuild\bbs-3.17-bioc\R\library --no-vignettes --timings rsemmed_1.10.0.tar.gz StartedAt: 2023-10-16 06:16:12 -0400 (Mon, 16 Oct 2023) EndedAt: 2023-10-16 06:16:58 -0400 (Mon, 16 Oct 2023) EllapsedTime: 45.6 seconds RetCode: 0 Status: OK CheckDir: rsemmed.Rcheck Warnings: 0