Package: rsbml Version: 2.58.0 Command: F:\biocbuild\bbs-3.17-bioc\R\bin\R.exe CMD check --no-multiarch --install=check:rsbml.install-out.txt --library=F:\biocbuild\bbs-3.17-bioc\R\library --no-vignettes --timings rsbml_2.58.0.tar.gz StartedAt: 2023-10-16 06:16:04 -0400 (Mon, 16 Oct 2023) EndedAt: 2023-10-16 06:21:29 -0400 (Mon, 16 Oct 2023) EllapsedTime: 325.1 seconds RetCode: 0 Status: WARNINGS CheckDir: rsbml.Rcheck Warnings: 2