Package: rsbml Version: 2.58.0 Command: chmod a+r rsbml -R && F:\biocbuild\bbs-3.17-bioc\R\bin\R.exe CMD build --keep-empty-dirs --no-resave-data rsbml StartedAt: 2023-10-15 21:57:50 -0400 (Sun, 15 Oct 2023) EndedAt: 2023-10-15 21:58:46 -0400 (Sun, 15 Oct 2023) EllapsedTime: 56.4 seconds RetCode: 0 Status: OK PackageFile: rsbml_2.58.0.tar.gz PackageFileSize: 500.2 KiB