Package: rsbml Version: 2.58.0 Command: rm -rf rsbml.buildbin-libdir && mkdir rsbml.buildbin-libdir && F:\biocbuild\bbs-3.17-bioc\R\bin\R.exe CMD INSTALL --build --library=rsbml.buildbin-libdir rsbml_2.58.0.tar.gz StartedAt: 2023-10-16 09:26:29 -0400 (Mon, 16 Oct 2023) EndedAt: 2023-10-16 09:27:31 -0400 (Mon, 16 Oct 2023) EllapsedTime: 61.4 seconds RetCode: 0 Status: OK PackageFile: rsbml_2.58.0.zip PackageFileSize: 6.808 MiB