Package: rsbml Version: 2.58.0 Command: /home/biocbuild/bbs-3.17-bioc/R/bin/R CMD check --install=check:rsbml.install-out.txt --library=/home/biocbuild/bbs-3.17-bioc/R/site-library --timings rsbml_2.58.0.tar.gz StartedAt: 2023-10-16 00:38:02 -0400 (Mon, 16 Oct 2023) EndedAt: 2023-10-16 00:38:44 -0400 (Mon, 16 Oct 2023) EllapsedTime: 42.3 seconds RetCode: 0 Status: WARNINGS CheckDir: rsbml.Rcheck Warnings: 1