git_url: https://git.bioconductor.org/packages/rsbml git_branch: RELEASE_3_17 git_last_commit: 3dd92e2 git_last_commit_date: 2023-04-25 09:45:58 -0400 (Tue, 25 Apr 2023) Package: rsbml Version: 2.58.0 Maintainer: Michael Lawrence MaintainerEmail: michafla at gene.com