Package: rrvgo Version: 1.12.2 Command: F:\biocbuild\bbs-3.17-bioc\R\bin\R.exe CMD check --no-multiarch --install=check:rrvgo.install-out.txt --library=F:\biocbuild\bbs-3.17-bioc\R\library --no-vignettes --timings rrvgo_1.12.2.tar.gz StartedAt: 2023-10-16 06:15:36 -0400 (Mon, 16 Oct 2023) EndedAt: 2023-10-16 06:23:05 -0400 (Mon, 16 Oct 2023) EllapsedTime: 449.7 seconds RetCode: 0 Status: OK CheckDir: rrvgo.Rcheck Warnings: 0