Package: rrvgo Version: 1.12.2 Command: chmod a+r rrvgo -R && F:\biocbuild\bbs-3.17-bioc\R\bin\R.exe CMD build --keep-empty-dirs --no-resave-data rrvgo StartedAt: 2023-10-15 21:57:27 -0400 (Sun, 15 Oct 2023) EndedAt: 2023-10-15 21:59:20 -0400 (Sun, 15 Oct 2023) EllapsedTime: 112.7 seconds RetCode: 0 Status: OK PackageFile: rrvgo_1.12.2.tar.gz PackageFileSize: 1.546 MiB