Package: rrvgo Version: 1.12.2 Command: rm -rf rrvgo.buildbin-libdir && mkdir rrvgo.buildbin-libdir && F:\biocbuild\bbs-3.17-bioc\R\bin\R.exe CMD INSTALL --build --library=rrvgo.buildbin-libdir rrvgo_1.12.2.tar.gz StartedAt: 2023-10-16 09:26:25 -0400 (Mon, 16 Oct 2023) EndedAt: 2023-10-16 09:26:55 -0400 (Mon, 16 Oct 2023) EllapsedTime: 29.3 seconds RetCode: 0 Status: OK PackageFile: rrvgo_1.12.2.zip PackageFileSize: 1.075 MiB