Package: rrvgo Version: 1.12.2 Command: /home/biocbuild/bbs-3.17-bioc/R/bin/R CMD INSTALL rrvgo StartedAt: 2023-10-15 15:28:45 -0400 (Sun, 15 Oct 2023) EndedAt: 2023-10-15 15:29:03 -0400 (Sun, 15 Oct 2023) EllapsedTime: 18.6 seconds RetCode: 0 Status: OK