Package: rrvgo Version: 1.12.2 Command: /Library/Frameworks/R.framework/Resources/bin/R CMD build --keep-empty-dirs --no-resave-data rrvgo StartedAt: 2023-10-15 20:51:11 -0400 (Sun, 15 Oct 2023) EndedAt: 2023-10-15 20:55:23 -0400 (Sun, 15 Oct 2023) EllapsedTime: 251.4 seconds RetCode: 0 Status: OK PackageFile: rrvgo_1.12.2.tar.gz PackageFileSize: 1.811 MiB