Package: rrvgo Version: 1.12.2 Command: rm -rf rrvgo.buildbin-libdir && mkdir rrvgo.buildbin-libdir && /Users/biocbuild/BBS/utils/build-universal.sh rrvgo_1.12.2.tar.gz /Library/Frameworks/R.framework/Resources/bin/R rrvgo.buildbin-libdir StartedAt: 2023-10-16 10:06:45 -0400 (Mon, 16 Oct 2023) EndedAt: 2023-10-16 10:07:57 -0400 (Mon, 16 Oct 2023) EllapsedTime: 71.9 seconds RetCode: 0 Status: OK PackageFile: rrvgo_1.12.2.tgz PackageFileSize: 1.337 MiB