Package: rqubic Version: 1.46.0 Command: /Library/Frameworks/R.framework/Resources/bin/R CMD check --install=check:rqubic.install-out.txt --library=/Library/Frameworks/R.framework/Resources/library --no-vignettes --timings rqubic_1.46.0.tar.gz StartedAt: 2023-10-16 06:23:34 -0400 (Mon, 16 Oct 2023) EndedAt: 2023-10-16 06:25:57 -0400 (Mon, 16 Oct 2023) EllapsedTime: 142.3 seconds RetCode: 0 Status: OK CheckDir: rqubic.Rcheck Warnings: 0