Package: rqt Version: 1.26.0 Command: /home/biocbuild/bbs-3.17-bioc/R/bin/R CMD check --install=check:rqt.install-out.txt --library=/home/biocbuild/bbs-3.17-bioc/R/site-library --timings rqt_1.26.0.tar.gz StartedAt: 2023-10-16 00:36:34 -0400 (Mon, 16 Oct 2023) EndedAt: 2023-10-16 00:39:35 -0400 (Mon, 16 Oct 2023) EllapsedTime: 181.2 seconds RetCode: 0 Status: OK CheckDir: rqt.Rcheck Warnings: 0