Package: rpx Version: 2.8.1 Command: /home/biocbuild/bbs-3.17-bioc/R/bin/R CMD INSTALL rpx StartedAt: 2023-10-15 15:16:00 -0400 (Sun, 15 Oct 2023) EndedAt: 2023-10-15 15:16:08 -0400 (Sun, 15 Oct 2023) EllapsedTime: 8.3 seconds RetCode: 0 Status: OK