Package: rpx Version: 2.8.1 Command: /home/biocbuild/bbs-3.17-bioc/R/bin/R CMD build --keep-empty-dirs --no-resave-data rpx StartedAt: 2023-10-15 18:17:57 -0400 (Sun, 15 Oct 2023) EndedAt: 2023-10-15 18:18:08 -0400 (Sun, 15 Oct 2023) EllapsedTime: 10.6 seconds RetCode: 1 Status: ERROR PackageFile: None PackageFileSize: NA