Package: rpx Version: 2.8.1 Command: /Library/Frameworks/R.framework/Resources/bin/R CMD INSTALL rpx StartedAt: 2023-10-15 15:22:03 -0400 (Sun, 15 Oct 2023) EndedAt: 2023-10-15 15:22:30 -0400 (Sun, 15 Oct 2023) EllapsedTime: 26.2 seconds RetCode: 0 Status: OK