Package: rpx Version: 2.8.0 Command: /Library/Frameworks/R.framework/Resources/bin/R CMD check --install=check:rpx.install-out.txt --library=/Library/Frameworks/R.framework/Resources/library --no-vignettes --timings rpx_2.8.0.tar.gz StartedAt: 2023-09-15 07:32:51 -0400 (Fri, 15 Sep 2023) EndedAt: 2023-09-15 07:36:10 -0400 (Fri, 15 Sep 2023) EllapsedTime: 198.8 seconds RetCode: 1 Status: ERROR CheckDir: rpx.Rcheck Warnings: NA