Package: rpx Version: 2.8.1 Command: /Library/Frameworks/R.framework/Resources/bin/R CMD build --keep-empty-dirs --no-resave-data rpx StartedAt: 2023-10-15 20:50:27 -0400 (Sun, 15 Oct 2023) EndedAt: 2023-10-15 20:50:54 -0400 (Sun, 15 Oct 2023) EllapsedTime: 26.7 seconds RetCode: 1 Status: ERROR PackageFile: None PackageFileSize: NA