Package: rprimer Version: 1.4.0 Command: F:\biocbuild\bbs-3.17-bioc\R\bin\R.exe CMD INSTALL rprimer StartedAt: 2023-10-15 16:31:29 -0400 (Sun, 15 Oct 2023) EndedAt: 2023-10-15 16:31:56 -0400 (Sun, 15 Oct 2023) EllapsedTime: 27.5 seconds RetCode: 0 Status: OK