Package: ropls Version: 1.32.0 Command: F:\biocbuild\bbs-3.17-bioc\R\bin\R.exe CMD INSTALL ropls StartedAt: 2023-10-15 16:52:19 -0400 (Sun, 15 Oct 2023) EndedAt: 2023-10-15 16:52:54 -0400 (Sun, 15 Oct 2023) EllapsedTime: 35.4 seconds RetCode: 0 Status: OK