Package: ropls Version: 1.32.0 Command: F:\biocbuild\bbs-3.17-bioc\R\bin\R.exe CMD check --no-multiarch --install=check:ropls.install-out.txt --library=F:\biocbuild\bbs-3.17-bioc\R\library --no-vignettes --timings ropls_1.32.0.tar.gz StartedAt: 2023-10-16 06:11:30 -0400 (Mon, 16 Oct 2023) EndedAt: 2023-10-16 06:14:56 -0400 (Mon, 16 Oct 2023) EllapsedTime: 206.5 seconds RetCode: 0 Status: OK CheckDir: ropls.Rcheck Warnings: 0