Package: ropls Version: 1.32.0 Command: rm -rf ropls.buildbin-libdir && mkdir ropls.buildbin-libdir && F:\biocbuild\bbs-3.17-bioc\R\bin\R.exe CMD INSTALL --build --library=ropls.buildbin-libdir ropls_1.32.0.tar.gz StartedAt: 2023-10-16 09:25:51 -0400 (Mon, 16 Oct 2023) EndedAt: 2023-10-16 09:26:29 -0400 (Mon, 16 Oct 2023) EllapsedTime: 38.2 seconds RetCode: 0 Status: OK PackageFile: ropls_1.32.0.zip PackageFileSize: 3.49 MiB