Package: ropls Version: 1.32.0 Command: /home/biocbuild/bbs-3.17-bioc/R/bin/R CMD build --keep-empty-dirs --no-resave-data ropls StartedAt: 2023-10-15 18:17:14 -0400 (Sun, 15 Oct 2023) EndedAt: 2023-10-15 18:18:15 -0400 (Sun, 15 Oct 2023) EllapsedTime: 60.8 seconds RetCode: 0 Status: OK PackageFile: ropls_1.32.0.tar.gz PackageFileSize: 3.882 MiB