Package: ropls Version: 1.32.0 Command: /Library/Frameworks/R.framework/Resources/bin/R CMD INSTALL ropls StartedAt: 2023-10-15 16:15:16 -0400 (Sun, 15 Oct 2023) EndedAt: 2023-10-15 16:16:39 -0400 (Sun, 15 Oct 2023) EllapsedTime: 83.6 seconds RetCode: 0 Status: OK