Package: ropls Version: 1.32.0 Command: /Library/Frameworks/R.framework/Resources/bin/R CMD build --keep-empty-dirs --no-resave-data ropls StartedAt: 2023-10-15 20:48:36 -0400 (Sun, 15 Oct 2023) EndedAt: 2023-10-15 20:51:08 -0400 (Sun, 15 Oct 2023) EllapsedTime: 152.8 seconds RetCode: 0 Status: OK PackageFile: ropls_1.32.0.tar.gz PackageFileSize: 4.086 MiB