Package: rols Version: 2.28.0 Command: rm -rf rols.buildbin-libdir && mkdir rols.buildbin-libdir && F:\biocbuild\bbs-3.17-bioc\R\bin\R.exe CMD INSTALL --build --library=rols.buildbin-libdir rols_2.28.0.tar.gz StartedAt: 2023-10-16 09:25:48 -0400 (Mon, 16 Oct 2023) EndedAt: 2023-10-16 09:26:01 -0400 (Mon, 16 Oct 2023) EllapsedTime: 13.6 seconds RetCode: 0 Status: OK PackageFile: rols_2.28.0.zip PackageFileSize: 673.7 KiB